BEGIN:VCALENDAR
VERSION:2.0
PRODID:-//Wright Museum of World War II - ECPv6.15.18//NONSGML v1.0//EN
CALSCALE:GREGORIAN
METHOD:PUBLISH
X-WR-CALNAME:Wright Museum of World War II
X-ORIGINAL-URL:https://wrightmuseum.org
X-WR-CALDESC:Events for Wright Museum of World War II
REFRESH-INTERVAL;VALUE=DURATION:PT1H
X-Robots-Tag:noindex
X-PUBLISHED-TTL:PT1H
BEGIN:VTIMEZONE
TZID:America/New_York
BEGIN:DAYLIGHT
TZOFFSETFROM:-0500
TZOFFSETTO:-0400
TZNAME:EDT
DTSTART:20240310T070000
END:DAYLIGHT
BEGIN:STANDARD
TZOFFSETFROM:-0400
TZOFFSETTO:-0500
TZNAME:EST
DTSTART:20241103T060000
END:STANDARD
BEGIN:DAYLIGHT
TZOFFSETFROM:-0500
TZOFFSETTO:-0400
TZNAME:EDT
DTSTART:20250309T070000
END:DAYLIGHT
BEGIN:STANDARD
TZOFFSETFROM:-0400
TZOFFSETTO:-0500
TZNAME:EST
DTSTART:20251102T060000
END:STANDARD
BEGIN:DAYLIGHT
TZOFFSETFROM:-0500
TZOFFSETTO:-0400
TZNAME:EDT
DTSTART:20260308T070000
END:DAYLIGHT
BEGIN:STANDARD
TZOFFSETFROM:-0400
TZOFFSETTO:-0500
TZNAME:EST
DTSTART:20261101T060000
END:STANDARD
END:VTIMEZONE
BEGIN:VEVENT
DTSTART;TZID=America/New_York:20250624T190000
DTEND;TZID=America/New_York:20250624T200000
DTSTAMP:20260425T184021
CREATED:20250501T170218Z
LAST-MODIFIED:20250515T160439Z
UID:10000295-1750791600-1750795200@wrightmuseum.org
SUMMARY:Lecture Series: Dr. Rowland Brucken - The Bretton Woods Conference
DESCRIPTION:Dr. Rowland Brucken – The Bretton Woods Conference  \n\n\nThe Bretton Woods Conference\, formally known as the United Nations Monetary and Financial Conference\, was the gathering of 730 delegates from all 44 allied nations at the Mount Washington Hotel\, in Bretton Woods\, New Hampshire\, to regulate what would be the international order after the conclusion of World War II. \nThe conference was held from July 1 to 22\, 1944. Agreements were signed\, that\, after legislative ratification by member governments\, established the International Bank for Reconstruction and Development (IBRD\, later part of the World Bank group) and the International Money Fund (IMF). This led to what was called the Bretton Woods System for international commercial and financial relations. \nDr. Rowly Brucken is a Professor of History at Norwich University. He teaches courses on international human rights law\, the Cold War\, race and racism in the United States\, and\, when space allows\, the history of baseball. He was Amnesty International USA’s Zimbabwe expert for 20 years\, specializing in asylum advocacy and crisis response. He is a retired competitive ultramarathoner\, has three grown kids\, and loves to hike and bike with his wife Lisa.
URL:https://wrightmuseum.org/calendar/lecture-series-dr-rowland-brucken-the-bretton-woods-conference/
LOCATION:Wright Museum of World War II\, 77 Center Street\, Wolfeboro\, NH\, 03894\, United States
CATEGORIES:Lectures
ATTACH;FMTTYPE=image/webp:https://wrightmuseum.org/wp-content/uploads/2025/04/62425lecture-1.webp
END:VEVENT
END:VCALENDAR