BEGIN:VCALENDAR
VERSION:2.0
PRODID:-//Wright Museum of World War II - ECPv6.15.18//NONSGML v1.0//EN
CALSCALE:GREGORIAN
METHOD:PUBLISH
X-WR-CALNAME:Wright Museum of World War II
X-ORIGINAL-URL:https://wrightmuseum.org
X-WR-CALDESC:Events for Wright Museum of World War II
REFRESH-INTERVAL;VALUE=DURATION:PT1H
X-Robots-Tag:noindex
X-PUBLISHED-TTL:PT1H
BEGIN:VTIMEZONE
TZID:America/New_York
BEGIN:DAYLIGHT
TZOFFSETFROM:-0500
TZOFFSETTO:-0400
TZNAME:EDT
DTSTART:20240310T070000
END:DAYLIGHT
BEGIN:STANDARD
TZOFFSETFROM:-0400
TZOFFSETTO:-0500
TZNAME:EST
DTSTART:20241103T060000
END:STANDARD
BEGIN:DAYLIGHT
TZOFFSETFROM:-0500
TZOFFSETTO:-0400
TZNAME:EDT
DTSTART:20250309T070000
END:DAYLIGHT
BEGIN:STANDARD
TZOFFSETFROM:-0400
TZOFFSETTO:-0500
TZNAME:EST
DTSTART:20251102T060000
END:STANDARD
BEGIN:DAYLIGHT
TZOFFSETFROM:-0500
TZOFFSETTO:-0400
TZNAME:EDT
DTSTART:20260308T070000
END:DAYLIGHT
BEGIN:STANDARD
TZOFFSETFROM:-0400
TZOFFSETTO:-0500
TZNAME:EST
DTSTART:20261101T060000
END:STANDARD
END:VTIMEZONE
BEGIN:VEVENT
DTSTART;TZID=America/New_York:20250701T190000
DTEND;TZID=America/New_York:20250701T200000
DTSTAMP:20260423T113400
CREATED:20250501T170154Z
LAST-MODIFIED:20250515T160548Z
UID:10000296-1751396400-1751400000@wrightmuseum.org
SUMMARY:Lecture Series: Col. Edna W. Cummings (Retired) - 6888th\, Central Postal Directory Battalion
DESCRIPTION:Edna W. Cummings – 6888th\, Central Postal Directory Battalion \n\n\nThe U.S. Army’s 6888th Central Postal Directory Battalion was the only all-minority\, all-female Women’s Army Corps (WAC) unit to serve overseas during World War II. The primary mission of the “Six Triple Eight\,” as the unit was popularly known\, was to sort the two- to three-year backlog of undelivered mail for U.S. service members in the European theater of war. The unit\, organized on March 4\, 1945 in Birmingham\, England\, contained about 850 officers and enlisted personnel who formed four companies. Whereas most Black units in the military contained white officers\, every position in the 6888th was staffed by Black women. \nColonel Edna W. Cummings\, U.S. Army (Retired) Six Triple Eight Advocate\, Author\, and Congressional Gold Medal Champion  \nRetired Army Colonel Edna W. Cummings is a true example of a social entrepreneur and change-maker. Her career path can be described with three words: service\, leadership\, and change. Col. Cummings was the first African American woman to receive a commission as an Army Officer from Appalachian State University in her home state of North Carolina. Afterwards\, she served in key positions in the U.S. Army\, and held leadership positions in multi-million dollar businesses\, worked on national initiatives\, and was able to bring recognition to the all-Black WWII Women’s Army Corps unit\, Six Triple Eight. Col. Cummings championed the legislative effort to enact passage of the Six Triple Eight Congressional Gold Medal Act of 2021\, signed by the President in March 2022. This is the nation’s highest civilian honor. Cummings\, has been recognized as a national leader by bipartisan elected officials\, and diverse social and business organizations.
URL:https://wrightmuseum.org/calendar/lecture-series-col-edna-w-cummings-retired-6888th-central-postal-directory-battalion/
LOCATION:Wright Museum of World War II\, 77 Center Street\, Wolfeboro\, NH\, 03894\, United States
CATEGORIES:Lectures
ATTACH;FMTTYPE=image/webp:https://wrightmuseum.org/wp-content/uploads/2025/04/7125lecture-1.webp
END:VEVENT
END:VCALENDAR