BEGIN:VCALENDAR
VERSION:2.0
PRODID:-//Wright Museum of World War II - ECPv6.15.18//NONSGML v1.0//EN
CALSCALE:GREGORIAN
METHOD:PUBLISH
X-ORIGINAL-URL:https://wrightmuseum.org
X-WR-CALDESC:Events for Wright Museum of World War II
REFRESH-INTERVAL;VALUE=DURATION:PT1H
X-Robots-Tag:noindex
X-PUBLISHED-TTL:PT1H
BEGIN:VTIMEZONE
TZID:America/New_York
BEGIN:DAYLIGHT
TZOFFSETFROM:-0500
TZOFFSETTO:-0400
TZNAME:EDT
DTSTART:20250309T070000
END:DAYLIGHT
BEGIN:STANDARD
TZOFFSETFROM:-0400
TZOFFSETTO:-0500
TZNAME:EST
DTSTART:20251102T060000
END:STANDARD
BEGIN:DAYLIGHT
TZOFFSETFROM:-0500
TZOFFSETTO:-0400
TZNAME:EDT
DTSTART:20260308T070000
END:DAYLIGHT
BEGIN:STANDARD
TZOFFSETFROM:-0400
TZOFFSETTO:-0500
TZNAME:EST
DTSTART:20261101T060000
END:STANDARD
BEGIN:DAYLIGHT
TZOFFSETFROM:-0500
TZOFFSETTO:-0400
TZNAME:EDT
DTSTART:20270314T070000
END:DAYLIGHT
BEGIN:STANDARD
TZOFFSETFROM:-0400
TZOFFSETTO:-0500
TZNAME:EST
DTSTART:20271107T060000
END:STANDARD
END:VTIMEZONE
BEGIN:VEVENT
DTSTART;TZID=America/New_York:20260728T190000
DTEND;TZID=America/New_York:20260728T200000
DTSTAMP:20260424T102038
CREATED:20260415T150326Z
LAST-MODIFIED:20260415T150326Z
UID:10000316-1785265200-1785268800@wrightmuseum.org
SUMMARY:Lecture Series: Alex Kershaw - Escape the Deep
DESCRIPTION:Alex Kershaw – Escape the Deep \n\n\nIn the early morning hours of October 24\, 1944\, the legendary U.S. Navy submarine Tang was hit by one of its own faulty torpedoes. The survivors of the explosion struggled to stay alive one hundred-eighty feet beneath the surface\, while the Japanese dropped deadly depth charges. As the air ran out\, some of the crew made a daring ascent through the escape hatch. In the end\, just nine of the original eighty-man crew survived. \nBut the survivors were beginning a far greater ordeal. After being picked up by the Japanese\, they were sent to an interrogation camp known as the “Torture Farm.” When they were liberated in 1945\, they were close to death\, but they had revealed nothing to the Japanese\, including the greatest secret of World War II. \nCost: Members $12\, non-members $16
URL:https://wrightmuseum.org/calendar/lecture-series-alex-kershaw-escape-the-deep/
LOCATION:Wright Museum of World War II\, 77 Center Street\, Wolfeboro\, NH\, 03894\, United States
CATEGORIES:Lectures
ATTACH;FMTTYPE=image/png:https://wrightmuseum.org/wp-content/uploads/2026/04/EscapeDeepKershaw-72826.png
END:VEVENT
END:VCALENDAR