BEGIN:VCALENDAR
VERSION:2.0
PRODID:-//Wright Museum of World War II - ECPv6.15.18//NONSGML v1.0//EN
CALSCALE:GREGORIAN
METHOD:PUBLISH
X-ORIGINAL-URL:https://wrightmuseum.org
X-WR-CALDESC:Events for Wright Museum of World War II
REFRESH-INTERVAL;VALUE=DURATION:PT1H
X-Robots-Tag:noindex
X-PUBLISHED-TTL:PT1H
BEGIN:VTIMEZONE
TZID:America/New_York
BEGIN:DAYLIGHT
TZOFFSETFROM:-0500
TZOFFSETTO:-0400
TZNAME:EDT
DTSTART:20250309T070000
END:DAYLIGHT
BEGIN:STANDARD
TZOFFSETFROM:-0400
TZOFFSETTO:-0500
TZNAME:EST
DTSTART:20251102T060000
END:STANDARD
BEGIN:DAYLIGHT
TZOFFSETFROM:-0500
TZOFFSETTO:-0400
TZNAME:EDT
DTSTART:20260308T070000
END:DAYLIGHT
BEGIN:STANDARD
TZOFFSETFROM:-0400
TZOFFSETTO:-0500
TZNAME:EST
DTSTART:20261101T060000
END:STANDARD
BEGIN:DAYLIGHT
TZOFFSETFROM:-0500
TZOFFSETTO:-0400
TZNAME:EDT
DTSTART:20270314T070000
END:DAYLIGHT
BEGIN:STANDARD
TZOFFSETFROM:-0400
TZOFFSETTO:-0500
TZNAME:EST
DTSTART:20271107T060000
END:STANDARD
END:VTIMEZONE
BEGIN:VEVENT
DTSTART;TZID=America/New_York:20260811T190000
DTEND;TZID=America/New_York:20260811T200000
DTSTAMP:20260424T145842
CREATED:20260415T150723Z
LAST-MODIFIED:20260415T150723Z
UID:10000319-1786474800-1786478400@wrightmuseum.org
SUMMARY:Lecture Series: Laura Kroy - The Shopkeeper of Alsace
DESCRIPTION:Laura Kroy – The Shopkeeper of Alsace \nWhen WWII comes for her family\, Sarah thinks she’s read. She’s had training\, after all\, coming of Age during World War I. \nThe Shopkeeper of Alsace is an uplifting tale of family\, love\, resilience\, and on unstoppable women. \nLaura Knoy is an award-winning journalist. She founded New Hampshire’s most widely respected and recognized public radio program\, “The Exchange\,” which she hosted for 25 years. Laura also worked at the national level; newscasting\, hosting and reporting for NPR.
URL:https://wrightmuseum.org/calendar/lecture-series-laura-kroy-the-shopkeeper-of-alsace/
LOCATION:Wright Museum of World War II\, 77 Center Street\, Wolfeboro\, NH\, 03894\, United States
CATEGORIES:Lectures
ATTACH;FMTTYPE=image/png:https://wrightmuseum.org/wp-content/uploads/2026/04/ShopkeeperAlsace-081126.png
END:VEVENT
END:VCALENDAR